BEGIN:VCALENDAR
VERSION:2.0
PRODID:-//Local 59 - ECPv6.15.18//NONSGML v1.0//EN
CALSCALE:GREGORIAN
METHOD:PUBLISH
X-WR-CALNAME:Local 59
X-ORIGINAL-URL:https://iueclocal59.org
X-WR-CALDESC:Events for Local 59
REFRESH-INTERVAL;VALUE=DURATION:PT1H
X-Robots-Tag:noindex
X-PUBLISHED-TTL:PT1H
BEGIN:VTIMEZONE
TZID:UTC
BEGIN:STANDARD
TZOFFSETFROM:+0000
TZOFFSETTO:+0000
TZNAME:UTC
DTSTART:20260101T000000
END:STANDARD
END:VTIMEZONE
BEGIN:VEVENT
DTSTART;TZID=UTC:20271116T160000
DTEND;TZID=UTC:20271116T170000
DTSTAMP:20260421T151037
CREATED:20241209T131228Z
LAST-MODIFIED:20241209T133759Z
UID:10000363-1826380800-1826384400@iueclocal59.org
SUMMARY:Cookout
DESCRIPTION:
URL:https://iueclocal59.org/event/cookout/2027-11-16/
CATEGORIES:default
END:VEVENT
BEGIN:VEVENT
DTSTART;TZID=UTC:20271116T170000
DTEND;TZID=UTC:20271116T180000
DTSTAMP:20260421T151037
CREATED:20241209T133837Z
LAST-MODIFIED:20241209T133837Z
UID:10000423-1826384400-1826388000@iueclocal59.org
SUMMARY:Executive Board Meeting
DESCRIPTION:
URL:https://iueclocal59.org/event/executive-board-meeting/2027-11-16/
CATEGORIES:default
END:VEVENT
BEGIN:VEVENT
DTSTART;TZID=UTC:20271116T180000
DTEND;TZID=UTC:20271116T190000
DTSTAMP:20260421T151037
CREATED:20241209T133949Z
LAST-MODIFIED:20241209T133949Z
UID:10000483-1826388000-1826391600@iueclocal59.org
SUMMARY:General Meeting
DESCRIPTION:
URL:https://iueclocal59.org/event/general-meeting/2027-11-16/
CATEGORIES:default
END:VEVENT
BEGIN:VEVENT
DTSTART;TZID=UTC:20271116T190000
DTEND;TZID=UTC:20271116T200000
DTSTAMP:20260421T151037
CREATED:20241209T134048Z
LAST-MODIFIED:20241209T134048Z
UID:10000543-1826391600-1826395200@iueclocal59.org
SUMMARY:Probationary Meeting
DESCRIPTION:
URL:https://iueclocal59.org/event/probationary-meeting/2027-11-16/
CATEGORIES:default
END:VEVENT
END:VCALENDAR