BEGIN:VCALENDAR
VERSION:2.0
PRODID:-//Local 59 - ECPv6.15.18//NONSGML v1.0//EN
CALSCALE:GREGORIAN
METHOD:PUBLISH
X-ORIGINAL-URL:https://iueclocal59.org
X-WR-CALDESC:Events for Local 59
REFRESH-INTERVAL;VALUE=DURATION:PT1H
X-Robots-Tag:noindex
X-PUBLISHED-TTL:PT1H
BEGIN:VTIMEZONE
TZID:UTC
BEGIN:STANDARD
TZOFFSETFROM:+0000
TZOFFSETTO:+0000
TZNAME:UTC
DTSTART:20280101T000000
END:STANDARD
END:VTIMEZONE
BEGIN:VEVENT
DTSTART;TZID=UTC:20291016T160000
DTEND;TZID=UTC:20291016T170000
DTSTAMP:20260420T071919
CREATED:20241209T131228Z
LAST-MODIFIED:20241209T133759Z
UID:10000386-1886860800-1886864400@iueclocal59.org
SUMMARY:Cookout
DESCRIPTION:
URL:https://iueclocal59.org/event/cookout/2029-10-16/
CATEGORIES:default
END:VEVENT
BEGIN:VEVENT
DTSTART;TZID=UTC:20291016T170000
DTEND;TZID=UTC:20291016T180000
DTSTAMP:20260420T071919
CREATED:20241209T133837Z
LAST-MODIFIED:20241209T133837Z
UID:10000446-1886864400-1886868000@iueclocal59.org
SUMMARY:Executive Board Meeting
DESCRIPTION:
URL:https://iueclocal59.org/event/executive-board-meeting/2029-10-16/
CATEGORIES:default
END:VEVENT
BEGIN:VEVENT
DTSTART;TZID=UTC:20291016T180000
DTEND;TZID=UTC:20291016T190000
DTSTAMP:20260420T071919
CREATED:20241209T133949Z
LAST-MODIFIED:20241209T133949Z
UID:10000506-1886868000-1886871600@iueclocal59.org
SUMMARY:General Meeting
DESCRIPTION:
URL:https://iueclocal59.org/event/general-meeting/2029-10-16/
CATEGORIES:default
END:VEVENT
BEGIN:VEVENT
DTSTART;TZID=UTC:20291016T190000
DTEND;TZID=UTC:20291016T200000
DTSTAMP:20260420T071919
CREATED:20241209T134048Z
LAST-MODIFIED:20241209T134048Z
UID:10000566-1886871600-1886875200@iueclocal59.org
SUMMARY:Probationary Meeting
DESCRIPTION:
URL:https://iueclocal59.org/event/probationary-meeting/2029-10-16/
CATEGORIES:default
END:VEVENT
BEGIN:VEVENT
DTSTART;TZID=UTC:20291120T160000
DTEND;TZID=UTC:20291120T170000
DTSTAMP:20260420T071919
CREATED:20241209T131228Z
LAST-MODIFIED:20241209T133759Z
UID:10000387-1889884800-1889888400@iueclocal59.org
SUMMARY:Cookout
DESCRIPTION:
URL:https://iueclocal59.org/event/cookout/2029-11-20/
CATEGORIES:default
END:VEVENT
BEGIN:VEVENT
DTSTART;TZID=UTC:20291120T170000
DTEND;TZID=UTC:20291120T180000
DTSTAMP:20260420T071919
CREATED:20241209T133837Z
LAST-MODIFIED:20241209T133837Z
UID:10000447-1889888400-1889892000@iueclocal59.org
SUMMARY:Executive Board Meeting
DESCRIPTION:
URL:https://iueclocal59.org/event/executive-board-meeting/2029-11-20/
CATEGORIES:default
END:VEVENT
BEGIN:VEVENT
DTSTART;TZID=UTC:20291120T180000
DTEND;TZID=UTC:20291120T190000
DTSTAMP:20260420T071919
CREATED:20241209T133949Z
LAST-MODIFIED:20241209T133949Z
UID:10000507-1889892000-1889895600@iueclocal59.org
SUMMARY:General Meeting
DESCRIPTION:
URL:https://iueclocal59.org/event/general-meeting/2029-11-20/
CATEGORIES:default
END:VEVENT
BEGIN:VEVENT
DTSTART;TZID=UTC:20291120T190000
DTEND;TZID=UTC:20291120T200000
DTSTAMP:20260420T071919
CREATED:20241209T134048Z
LAST-MODIFIED:20241209T134048Z
UID:10000567-1889895600-1889899200@iueclocal59.org
SUMMARY:Probationary Meeting
DESCRIPTION:
URL:https://iueclocal59.org/event/probationary-meeting/2029-11-20/
CATEGORIES:default
END:VEVENT
END:VCALENDAR