BEGIN:VCALENDAR
VERSION:2.0
PRODID:-//Local 59 - ECPv6.15.18//NONSGML v1.0//EN
CALSCALE:GREGORIAN
METHOD:PUBLISH
X-ORIGINAL-URL:https://iueclocal59.org
X-WR-CALDESC:Events for Local 59
REFRESH-INTERVAL;VALUE=DURATION:PT1H
X-Robots-Tag:noindex
X-PUBLISHED-TTL:PT1H
BEGIN:VTIMEZONE
TZID:UTC
BEGIN:STANDARD
TZOFFSETFROM:+0000
TZOFFSETTO:+0000
TZNAME:UTC
DTSTART:20280101T000000
END:STANDARD
END:VTIMEZONE
BEGIN:VEVENT
DTSTART;TZID=UTC:20290220T160000
DTEND;TZID=UTC:20290220T170000
DTSTAMP:20260422T221043
CREATED:20241209T131228Z
LAST-MODIFIED:20241209T133759Z
UID:10000378-1866297600-1866301200@iueclocal59.org
SUMMARY:Cookout
DESCRIPTION:
URL:https://iueclocal59.org/event/cookout/2029-02-20/
CATEGORIES:default
END:VEVENT
BEGIN:VEVENT
DTSTART;TZID=UTC:20290220T170000
DTEND;TZID=UTC:20290220T180000
DTSTAMP:20260422T221043
CREATED:20241209T133837Z
LAST-MODIFIED:20241209T133837Z
UID:10000438-1866301200-1866304800@iueclocal59.org
SUMMARY:Executive Board Meeting
DESCRIPTION:
URL:https://iueclocal59.org/event/executive-board-meeting/2029-02-20/
CATEGORIES:default
END:VEVENT
BEGIN:VEVENT
DTSTART;TZID=UTC:20290220T180000
DTEND;TZID=UTC:20290220T190000
DTSTAMP:20260422T221043
CREATED:20241209T133949Z
LAST-MODIFIED:20241209T133949Z
UID:10000498-1866304800-1866308400@iueclocal59.org
SUMMARY:General Meeting
DESCRIPTION:
URL:https://iueclocal59.org/event/general-meeting/2029-02-20/
CATEGORIES:default
END:VEVENT
BEGIN:VEVENT
DTSTART;TZID=UTC:20290220T190000
DTEND;TZID=UTC:20290220T200000
DTSTAMP:20260422T221043
CREATED:20241209T134048Z
LAST-MODIFIED:20241209T134048Z
UID:10000558-1866308400-1866312000@iueclocal59.org
SUMMARY:Probationary Meeting
DESCRIPTION:
URL:https://iueclocal59.org/event/probationary-meeting/2029-02-20/
CATEGORIES:default
END:VEVENT
END:VCALENDAR